BEGIN:VCALENDAR
VERSION:2.0
PRODID:-//Squarespace Inc/Squarespace 6//v6//EN
BEGIN:VEVENT
UID:5b888fef575d1fb403f5692c@squarespace.com
DTSTAMP:20180831T004755Z
DTSTART:20181013T030000Z
DTEND:20181013T080000Z
SUMMARY:Equi Days 
GEO:-37.876131;175.364581
LOCATION:Mystery Creek\, Hamilton\, New Zealand
END:VEVENT
END:VCALENDAR
