BEGIN:VCALENDAR
VERSION:2.0
PRODID:-//Squarespace Inc/Squarespace 6//v6//EN
BEGIN:VEVENT
UID:5b888fa60e2e728743b0b8bd@squarespace.com
DTSTAMP:20180831T004628Z
DTSTART:20181014T020000Z
DTEND:20181014T070000Z
SUMMARY:Equi Days 
GEO:-37.876131;175.364581
LOCATION:Mystery Creek\, Hamilton\, New Zealand
END:VEVENT
END:VCALENDAR
