BEGIN:VCALENDAR
VERSION:2.0
PRODID:-//Squarespace Inc/Squarespace 6//v6//EN
BEGIN:VEVENT
UID:5b888e592b6a28cadd8784bb@squarespace.com
DTSTAMP:20180831T004526Z
DTSTART:20181012T030000Z
DTEND:20181012T080000Z
SUMMARY:Equi Days 
GEO:-37.876131;175.364581
LOCATION:Mystery Creek\, Hamilton\, New Zealand
END:VEVENT
END:VCALENDAR
