BEGIN:VCALENDAR
VERSION:2.0
PRODID:-//Squarespace Inc/Squarespace 6//v6//EN
BEGIN:VEVENT
UID:5b87550f0e2e72525f1507db@squarespace.com
DTSTAMP:20180905T021024Z
DTSTART:20181216T030000Z
DTEND:20181216T070000Z
SUMMARY:Gourmet in the Gardens 
GEO:-37.804979;175.305202
LOCATION:Hamilton Gardens\, Hamilton\, NZ
END:VEVENT
END:VCALENDAR
