BEGIN:VCALENDAR
VERSION:2.0
PRODID:-//Squarespace Inc/Squarespace 6//v6//EN
BEGIN:VEVENT
UID:5b8755a8758d46722378ebee@squarespace.com
DTSTAMP:20180905T021348Z
DTSTART:20190210T030000Z
DTEND:20190210T070000Z
SUMMARY:Gourmet in the Gardens 
GEO:-37.804979;175.305202
LOCATION:Hamilton Gardens\, Hamilton\, NZ
END:VEVENT
END:VCALENDAR
