BEGIN:VCALENDAR
VERSION:2.0
PRODID:-//Squarespace Inc/Squarespace 6//v6//EN
BEGIN:VEVENT
UID:5b87547a032be4f3974e9949@squarespace.com
DTSTAMP:20180905T015550Z
DTSTART:20181111T030000Z
DTEND:20181111T070000Z
SUMMARY:Gourmet in the Gardens 
GEO:-37.804979;175.305202
LOCATION:Hamilton Gardens\, Hamilton\, NZ
END:VEVENT
END:VCALENDAR
