BEGIN:VCALENDAR
VERSION:2.0
PRODID:-//Squarespace Inc/Squarespace 6//v6//EN
BEGIN:VEVENT
UID:5b8754f10e2e72525f1506d0@squarespace.com
DTSTAMP:20180905T020950Z
DTSTART:20181209T030000Z
DTEND:20181209T070000Z
SUMMARY:Gourmet in the Gardens 
GEO:-37.804979;175.305202
LOCATION:Hamilton Gardens\, Hamilton\, NZ
END:VEVENT
END:VCALENDAR
