BEGIN:VCALENDAR
VERSION:2.0
PRODID:-//Squarespace Inc/Squarespace 6//v6//EN
BEGIN:VEVENT
UID:5b871fda21c67cb8d50a07db@squarespace.com
DTSTAMP:20180905T015439Z
DTSTART:20181028T030000Z
DTEND:20181028T070000Z
SUMMARY:Gourmet in the Gardens 
GEO:-37.804979;175.305202
LOCATION:Hamilton Gardens\, Hamilton\, NZ
END:VEVENT
END:VCALENDAR
