BEGIN:VCALENDAR
VERSION:2.0
PRODID:-//Squarespace Inc/Squarespace 6//v6//EN
BEGIN:VEVENT
UID:5bd90e94cd83666261b81abb@squarespace.com
DTSTAMP:20181031T022601Z
DTSTART:20181207T023000Z
DTEND:20181207T080000Z
SUMMARY:Victoria on the River 
GEO:-37.78771;175.28372
LOCATION:Banh Mi Caphe\, Shop 8 Riverbank Lane\, 298 Victoria Street\, Hami
 lton\, New Zealand
END:VEVENT
END:VCALENDAR
