BEGIN:VCALENDAR
VERSION:2.0
PRODID:-//Squarespace Inc/Squarespace 6//v6//EN
BEGIN:VEVENT
UID:5bd984d9575d1f8cef784847@squarespace.com
DTSTAMP:20181031T103401Z
DTSTART:20181208T020000Z
DTEND:20181208T090000Z
SUMMARY:Private Function
END:VEVENT
END:VCALENDAR
