BEGIN:VCALENDAR
VERSION:2.0
PRODID:-//Squarespace Inc/Squarespace 6//v6//EN
BEGIN:VEVENT
UID:5a94cda70d9297d5c07b3e3d@squarespace.com
DTSTAMP:20180227T031743Z
DTSTART:20180211T210000Z
DTEND:20180212T010000Z
SUMMARY:Gourmet in the Gardens
GEO:-37.804979;175.305202
LOCATION:Hamilton Gardens
END:VEVENT
END:VCALENDAR
