BEGIN:VCALENDAR
VERSION:2.0
PRODID:-//Squarespace Inc/Squarespace 6//v6//EN
BEGIN:VEVENT
UID:5a94cb2e652dead4391e9aa0@squarespace.com
DTSTAMP:20180227T031051Z
DTSTART:20180214T170000Z
DTEND:20180215T045900Z
SUMMARY:Valentines day specials
GEO:-37.787733;175.283539
LOCATION:Banh Mi Caphe\, Shop 8\, The Riverbank Lane\, 298 Victoria Street\
 , Hamilton\, New Zealand
END:VEVENT
END:VCALENDAR
