BEGIN:VCALENDAR
VERSION:2.0
PRODID:-//Squarespace Inc/Squarespace 6//v6//EN
BEGIN:VEVENT
UID:5a94ce6f53450a670045a864@squarespace.com
DTSTAMP:20180227T032100Z
DTSTART:20180218T210000Z
DTEND:20180219T010000Z
SUMMARY:Gourmet in the Gardens
GEO:-37.804979;175.305202
LOCATION:Hamilton Gardens
END:VEVENT
END:VCALENDAR
