BEGIN:VCALENDAR
VERSION:2.0
PRODID:-//Squarespace Inc/Squarespace 6//v6//EN
BEGIN:VEVENT
UID:5a94d4b88165f588f473aa0c@squarespace.com
DTSTAMP:20180227T034844Z
DTSTART:20180223T230000Z
DTEND:20180224T045900Z
SUMMARY:Friday night specials
GEO:-37.787733;175.283539
LOCATION:Banh Mi Caphe\, Shop 8\, The Riverbank Lane\, 298 Victoria Street\
 , Hamilton\, New Zealand
END:VEVENT
END:VCALENDAR
