BEGIN:VCALENDAR
VERSION:2.0
PRODID:-//Squarespace Inc/Squarespace 6//v6//EN
BEGIN:VEVENT
UID:5a94cea49140b78a0a3afc73@squarespace.com
DTSTAMP:20180227T032243Z
DTSTART:20180225T210000Z
DTEND:20180226T010000Z
SUMMARY:Gourmet in the Gardens
GEO:-37.804979;175.305202
LOCATION:Hamilton Gardens
END:VEVENT
END:VCALENDAR
