BEGIN:VCALENDAR
VERSION:2.0
PRODID:-//Squarespace Inc/Squarespace 6//v6//EN
BEGIN:VEVENT
UID:5a94cf0b8165f588f4725644@squarespace.com
DTSTAMP:20180227T032348Z
DTSTART:20180203T140000Z
DTEND:20180203T190000Z
SUMMARY:Little Big Markets
GEO:-37.638654;176.183627
LOCATION:Mount Maunganui
END:VEVENT
END:VCALENDAR
