BEGIN:VCALENDAR
VERSION:2.0
PRODID:-//Squarespace Inc/Squarespace 6//v6//EN
BEGIN:VEVENT
UID:5a94cd509140b78a0a3aa8de@squarespace.com
DTSTAMP:20180227T031647Z
DTSTART:20180204T210000Z
DTEND:20180205T010000Z
SUMMARY:Gourmet in the Gardens
GEO:-37.804979;175.305202
LOCATION:Hamilton Gardens
END:VEVENT
END:VCALENDAR
