BEGIN:VCALENDAR
VERSION:2.0
PRODID:-//Squarespace Inc/Squarespace 6//v6//EN
BEGIN:VEVENT
UID:5d6f8e9aa4f09300015d0e08@squarespace.com
DTSTAMP:20190904T102508Z
DTSTART:20191115T203000Z
DTEND:20191116T093000Z
SUMMARY:Food Truck Booked
END:VEVENT
END:VCALENDAR
