BEGIN:VCALENDAR
VERSION:2.0
PRODID:-//Squarespace Inc/Squarespace 6//v6//EN
BEGIN:VEVENT
UID:5da83a71d9eaa17ad5119477@squarespace.com
DTSTAMP:20191017T095538Z
DTSTART:20191129T030000Z
DTEND:20191129T090000Z
SUMMARY:Food Truck Booked
END:VEVENT
END:VCALENDAR
