BEGIN:VCALENDAR
VERSION:2.0
PRODID:-//Squarespace Inc/Squarespace 6//v6//EN
BEGIN:VEVENT
UID:5d6f88cb1841820001610209@squarespace.com
DTSTAMP:20190904T095335Z
DTSTART:20191124T030000Z
DTEND:20191124T070000Z
SUMMARY:Gourmet in the Gardens
END:VEVENT
END:VCALENDAR
