BEGIN:VCALENDAR
VERSION:2.0
PRODID:-//Squarespace Inc/Squarespace 6//v6//EN
BEGIN:VEVENT
UID:5d6f88f18eae490001c1bb63@squarespace.com
DTSTAMP:20190904T100405Z
DTSTART:20191208T030000Z
DTEND:20191208T070000Z
SUMMARY:Gourmet in the Gardens
END:VEVENT
END:VCALENDAR
