BEGIN:VCALENDAR
VERSION:2.0
PRODID:-//Squarespace Inc/Squarespace 6//v6//EN
BEGIN:VEVENT
UID:5d6f888076e3ba00018f7d6f@squarespace.com
DTSTAMP:20190904T095315Z
DTSTART:20191117T030000Z
DTEND:20191117T070000Z
SUMMARY: Gourmet in the Gardens
END:VEVENT
END:VCALENDAR
