BEGIN:VCALENDAR
VERSION:2.0
PRODID:-//Squarespace Inc/Squarespace 6//v6//EN
BEGIN:VEVENT
UID:5d6f890eddc37d00014a2c08@squarespace.com
DTSTAMP:20190904T100555Z
DTSTART:20191215T030000Z
DTEND:20191215T070000Z
SUMMARY:Gourmet in the Gardens
END:VEVENT
END:VCALENDAR
