BEGIN:VCALENDAR
VERSION:2.0
PRODID:-//Squarespace Inc/Squarespace 6//v6//EN
BEGIN:VEVENT
UID:5d6f886b8eae490001c1b51b@squarespace.com
DTSTAMP:20190904T095255Z
DTSTART:20191110T030000Z
DTEND:20191110T070000Z
SUMMARY:Gourmet in the Gardens
END:VEVENT
END:VCALENDAR
