BEGIN:VCALENDAR
VERSION:2.0
PRODID:-//Squarespace Inc/Squarespace 6//v6//EN
BEGIN:VEVENT
UID:5d6f88318eae490001c1b0fa@squarespace.com
DTSTAMP:20190904T095238Z
DTSTART:20191103T030000Z
DTEND:20191103T070000Z
SUMMARY:Gourmet in the Gardens
END:VEVENT
END:VCALENDAR
