BEGIN:VCALENDAR
VERSION:2.0
PRODID:-//Squarespace Inc/Squarespace 6//v6//EN
BEGIN:VEVENT
UID:5d6f8f0a2b5adf0001967c6e@squarespace.com
DTSTAMP:20190904T102440Z
DTSTART:20191129T210000Z
DTEND:20191130T090000Z
SUMMARY:Food Truck Booked
END:VEVENT
END:VCALENDAR
