BEGIN:VCALENDAR
VERSION:2.0
PRODID:-//Squarespace Inc/Squarespace 6//v6//EN
BEGIN:VEVENT
UID:5d6f87699bf33600011aad37@squarespace.com
DTSTAMP:20190904T100827Z
DTSTART:20191214T010000Z
DTEND:20191214T090000Z
SUMMARY:Food Truck Wedding Booked
END:VEVENT
END:VCALENDAR
