BEGIN:VCALENDAR
VERSION:2.0
PRODID:-//Squarespace Inc/Squarespace 6//v6//EN
BEGIN:VEVENT
UID:5d5b7d74235d8500010fa42b@squarespace.com
DTSTAMP:20190904T102536Z
DTSTART:20191206T040000Z
DTEND:20191206T100000Z
SUMMARY:Food Truck Booked
END:VEVENT
END:VCALENDAR
