BEGIN:VCALENDAR
VERSION:2.0
PRODID:-//Squarespace Inc/Squarespace 6//v6//EN
BEGIN:VEVENT
UID:5da83aa4d44cc516612a87bc@squarespace.com
DTSTAMP:20191017T095625Z
DTSTART:20191207T020000Z
DTEND:20191207T100000Z
SUMMARY:Food Truck Booked
END:VEVENT
END:VCALENDAR
