BEGIN:VCALENDAR
VERSION:2.0
PRODID:-//Squarespace Inc/Squarespace 6//v6//EN
BEGIN:VEVENT
UID:5bd912f1575d1f8cef753fba@squarespace.com
DTSTAMP:20181031T023019Z
DTSTART:20190201T220000Z
DTEND:20190202T050000Z
SUMMARY:Brewaucracy Brewery and Taproom
GEO:-37.758904;175.251558
LOCATION:Brewaucracy Brewery and Taproom\, 34 Mahana Road\, Hamilton
END:VEVENT
END:VCALENDAR
