BEGIN:VCALENDAR
VERSION:2.0
PRODID:-//Squarespace Inc/Squarespace 6//v6//EN
BEGIN:VEVENT
UID:5c53afd74e17b66b26e7b9dc@squarespace.com
DTSTAMP:20190201T023350Z
DTSTART:20190224T030000Z
DTEND:20190224T070000Z
SUMMARY:Gourmet in the Gardens
END:VEVENT
END:VCALENDAR
