BEGIN:VCALENDAR
VERSION:2.0
PRODID:-//Squarespace Inc/Squarespace 6//v6//EN
BEGIN:VEVENT
UID:5c53af9f4e17b66b26e7b76e@squarespace.com
DTSTAMP:20190201T023245Z
DTSTART:20190209T030000Z
DTEND:20190209T100000Z
SUMMARY:Private Function
END:VEVENT
END:VCALENDAR
