BEGIN:VCALENDAR
VERSION:2.0
PRODID:-//Squarespace Inc/Squarespace 6//v6//EN
BEGIN:VEVENT
UID:5b8756761ae6cf0aacb9dbde@squarespace.com
DTSTAMP:20180905T021536Z
DTSTART:20190316T013000Z
DTEND:20190316T093000Z
SUMMARY:Wedding
END:VEVENT
END:VCALENDAR
