BEGIN:VCALENDAR
VERSION:2.0
PRODID:-//Squarespace Inc/Squarespace 6//v6//EN
BEGIN:VEVENT
UID:5c53b1d0c83025d06e6d4777@squarespace.com
DTSTAMP:20190201T024324Z
DTSTART:20190302T030000Z
DTEND:20190302T070000Z
SUMMARY:Gourmet in the Gardens (KARAPIRO)
GEO:-37.919166;175.540667
LOCATION:Lake View Drive\, Karapiro\, Waikato\, 3494\, New Zealand
END:VEVENT
END:VCALENDAR
