BEGIN:VCALENDAR
VERSION:2.0
PRODID:-//Squarespace Inc/Squarespace 6//v6//EN
BEGIN:VEVENT
UID:5c91a0c1f9619a6baf3cc3e4@squarespace.com
DTSTAMP:20190320T021019Z
DTSTART:20190323T043000Z
DTEND:20190323T073000Z
SUMMARY:Private Function
END:VEVENT
END:VCALENDAR
