BEGIN:VCALENDAR
VERSION:2.0
PRODID:-//Squarespace Inc/Squarespace 6//v6//EN
BEGIN:VEVENT
UID:5c53b01e085229926930335d@squarespace.com
DTSTAMP:20190201T023526Z
DTSTART:20190303T030000Z
DTEND:20190303T070000Z
SUMMARY:Gourmet in the Gardens
END:VEVENT
END:VCALENDAR
