BEGIN:VCALENDAR
VERSION:2.0
PRODID:-//Squarespace Inc/Squarespace 6//v6//EN
BEGIN:VEVENT
UID:5c91a14b7817f72e2c2b3017@squarespace.com
DTSTAMP:20190320T021244Z
DTSTART:20190427T053000Z
DTEND:20190427T093000Z
SUMMARY:Private Function
END:VEVENT
END:VCALENDAR
