BEGIN:VCALENDAR
VERSION:2.0
PRODID:-//Squarespace Inc/Squarespace 6//v6//EN
BEGIN:VEVENT
UID:5c91a11b4e17b673ce249d44@squarespace.com
DTSTAMP:20190320T021101Z
DTSTART:20190405T023000Z
DTEND:20190407T093000Z
SUMMARY:Private Function
END:VEVENT
END:VCALENDAR
