BEGIN:VCALENDAR
VERSION:2.0
PRODID:-//Squarespace Inc/Squarespace 6//v6//EN
BEGIN:VEVENT
UID:5d1b27fe8d3de7000199f375@squarespace.com
DTSTAMP:20190820T045555Z
DTSTART:20191223T190000Z
DTEND:20200104T200000Z
SUMMARY:CHRISTMAS / NY CLOSURE 
END:VEVENT
END:VCALENDAR
