BEGIN:VCALENDAR
VERSION:2.0
PRODID:-//Squarespace Inc/Squarespace 6//v6//EN
BEGIN:VEVENT
UID:5d1b278da131aa0001c9aedc@squarespace.com
DTSTAMP:20190904T100852Z
DTSTART:20200220T200000Z
DTEND:20200222T210000Z
SUMMARY:Food Truck Wedding Booked
END:VEVENT
END:VCALENDAR
